BEGIN:VCALENDAR
VERSION:2.0
PRODID:-//Basílica Pontificia de San Miguel - ECPv6.15.20//NONSGML v1.0//EN
CALSCALE:GREGORIAN
METHOD:PUBLISH
X-WR-CALNAME:Basílica Pontificia de San Miguel
X-ORIGINAL-URL:https://basilicadesanmiguel.org
X-WR-CALDESC:Eventos para Basílica Pontificia de San Miguel
REFRESH-INTERVAL;VALUE=DURATION:PT1H
X-Robots-Tag:noindex
X-PUBLISHED-TTL:PT1H
BEGIN:VTIMEZONE
TZID:UTC
BEGIN:STANDARD
TZOFFSETFROM:+0000
TZOFFSETTO:+0000
TZNAME:UTC
DTSTART:20250101T000000
END:STANDARD
END:VTIMEZONE
BEGIN:VEVENT
DTSTART;TZID=UTC:20260425T103000
DTEND;TZID=UTC:20260425T182000
DTSTAMP:20260425T154202
CREATED:20260424T181017Z
LAST-MODIFIED:20260424T181017Z
UID:3225-1777113000-1777141200@basilicadesanmiguel.org
SUMMARY:Curso prematrimonial (Cripta)
DESCRIPTION:
URL:https://basilicadesanmiguel.org/actividad/curso-prematrimonial-cripta/
END:VEVENT
BEGIN:VEVENT
DTSTART;TZID=UTC:20260426T120500
DTEND;TZID=UTC:20260426T123000
DTSTAMP:20260425T154202
CREATED:20260424T181220Z
LAST-MODIFIED:20260424T181220Z
UID:3227-1777205100-1777206600@basilicadesanmiguel.org
SUMMARY:Praeludia dominicalia (órgano): "Tríptico del Buen Pastor"
DESCRIPTION:
URL:https://basilicadesanmiguel.org/actividad/praeludia-dominicalia-organo-triptico-del-buen-pastor/
ATTACH;FMTTYPE=image/jpeg:https://basilicadesanmiguel.org/wp-content/uploads/2026/04/Praeludia-2026-04-26_page-0001.jpg
END:VEVENT
BEGIN:VEVENT
DTSTART;TZID=UTC:20260430T191500
DTEND;TZID=UTC:20260430T210000
DTSTAMP:20260425T154202
CREATED:20260424T155640Z
LAST-MODIFIED:20260424T173041Z
UID:3190-1777576500-1777582800@basilicadesanmiguel.org
SUMMARY:Adoración Eucarística
DESCRIPTION:
URL:https://basilicadesanmiguel.org/actividad/adoracion-eucaristica/
ATTACH;FMTTYPE=image/jpeg:https://basilicadesanmiguel.org/wp-content/uploads/2026/04/Adoracion-eucaristica-1.jpg
END:VEVENT
END:VCALENDAR